BEGIN:VCALENDAR
VERSION:2.0
PRODID:-//Iao United Church of Christ - ECPv6.15.20//NONSGML v1.0//EN
CALSCALE:GREGORIAN
METHOD:PUBLISH
X-WR-CALNAME:Iao United Church of Christ
X-ORIGINAL-URL:https://iaoucc.org
X-WR-CALDESC:Events for Iao United Church of Christ
REFRESH-INTERVAL;VALUE=DURATION:PT1H
X-Robots-Tag:noindex
X-PUBLISHED-TTL:PT1H
BEGIN:VTIMEZONE
TZID:Pacific/Honolulu
BEGIN:STANDARD
TZOFFSETFROM:-1000
TZOFFSETTO:-1000
TZNAME:HST
DTSTART:20240101T000000
END:STANDARD
END:VTIMEZONE
BEGIN:VEVENT
DTSTART;TZID=Pacific/Honolulu:20250712T080000
DTEND;TZID=Pacific/Honolulu:20250712T170000
DTSTAMP:20260420T060157
CREATED:20250629T062202Z
LAST-MODIFIED:20250629T062202Z
UID:4527-1752307200-1752339600@iaoucc.org
SUMMARY:Bazaar/Rummage Sale Saturday 7/12/25
DESCRIPTION:July 12th is the big day – food\, fun and an amazing variety of items available to buy.  Hope to see you there!
URL:https://iaoucc.org/event/bazaar-rummage-sale-saturday-7-12-25/
LOCATION:Iao United Church of Christ\, 2371 W. Vineyard Street\, Wailuku\, HI\, 96793\, United States
END:VEVENT
BEGIN:VEVENT
DTSTART;TZID=Pacific/Honolulu:20250712T080000
DTEND;TZID=Pacific/Honolulu:20250712T140000
DTSTAMP:20260420T060157
CREATED:20250702T013353Z
LAST-MODIFIED:20250702T013607Z
UID:4534-1752307200-1752328800@iaoucc.org
SUMMARY:Bazaar & Rummage Sale
DESCRIPTION:
URL:https://iaoucc.org/event/bazaar-rummage-sale/
CATEGORIES:General
ATTACH;FMTTYPE=image/jpeg:https://iaoucc.org/wp-content/uploads/2025/07/Flyer_Final-edit-scaled.jpg
END:VEVENT
BEGIN:VEVENT
DTSTART;TZID=Pacific/Honolulu:20250312T180000
DTEND;TZID=Pacific/Honolulu:20250312T190000
DTSTAMP:20260420T060157
CREATED:20250311T023015Z
LAST-MODIFIED:20250311T023015Z
UID:4448-1741802400-1741806000@iaoucc.org
SUMMARY:Lent Events
DESCRIPTION:Iao UCC Announcement \nYou can stay home and repent for lent or you can join us here at Iao for a subdued\, yet spirit fill evening of knowing what Iao UCC is about\, what does it mean to be a member of a UCC Church\, Are you considering membership\, would you like to sing  in the choir? Well\, here are the dates you will want to be in the sanctuary: \nWednesday\,  March 12\, 6-7p.m. \nWednesday\, March 19\, 6-7 p.m. \nWednesday\, April 2\, 6-7 p.m. \nWednesday\, April 9\, 6-7 \nThat’s only a commitment of 4 Wednesdays! And with the choir\, we hope to have special music through  Holy Week including Easter Sunday! \n 
URL:https://iaoucc.org/event/lent-events/
END:VEVENT
BEGIN:VEVENT
DTSTART;TZID=Pacific/Honolulu:20250225T080000
DTEND;TZID=Pacific/Honolulu:20250225T170000
DTSTAMP:20260420T060157
CREATED:20250404T210033Z
LAST-MODIFIED:20250401T193134Z
UID:4401-1740470400-1740502800@iaoucc.org
SUMMARY:Ladies Lunch Bunch
DESCRIPTION:
URL:https://iaoucc.org/event/ladies-lunch-bunch/
LOCATION:Iao United Church of Christ\, 2371 W. Vineyard Street\, Wailuku\, HI\, 96793\, United States
CATEGORIES:CALENDAR,General
END:VEVENT
BEGIN:VEVENT
DTSTART;TZID=Pacific/Honolulu:20250216T130000
DTEND;TZID=Pacific/Honolulu:20250216T140000
DTSTAMP:20260420T060157
CREATED:20250212T010100Z
LAST-MODIFIED:20250212T010100Z
UID:4322-1739710800-1739714400@iaoucc.org
SUMMARY:Citrus City City Band of Southern California
DESCRIPTION:
URL:https://iaoucc.org/event/citrus-city-city-band-of-southern-california/
LOCATION:Iao United Church of Christ\, 2371 W. Vineyard Street\, Wailuku\, HI\, 96793\, United States
CATEGORIES:General
END:VEVENT
BEGIN:VEVENT
DTSTART;TZID=Pacific/Honolulu:20250216T100000
DTEND;TZID=Pacific/Honolulu:20250216T110000
DTSTAMP:20260420T060157
CREATED:20250212T013506Z
LAST-MODIFIED:20250212T013506Z
UID:4330-1739700000-1739703600@iaoucc.org
SUMMARY:Sunday Worship Service
DESCRIPTION:No matter who you are or where you are on life’s journey you are welcome here! Bring your ukulele\, you will have a chance to play along \n  \n  \nOur music this Sunday will be presented by Dale on piano and  Ann on Vida di Gamba. \nChildren are excused for Sunday School after Pastor Lauren shares Keiki time. \n Ann play her Vida di Gamba \nThe sermon is sure  to be interesting\, thought provoking heartfelt and maybe even emotional. But mostly it from God through Pastor Lauren’s words\, thoughts and songs.
URL:https://iaoucc.org/event/sunday-worship-service/
LOCATION:Iao United Church of Christ\, 2371 W. Vineyard Street\, Wailuku\, HI\, 96793\, United States
CATEGORIES:Worship Service
ORGANIZER;CN="Iao United Church of Christ":MAILTO:office@iaoucc.org
END:VEVENT
END:VCALENDAR