BEGIN:VCALENDAR
VERSION:2.0
PRODID:-//Iao United Church of Christ - ECPv6.15.20//NONSGML v1.0//EN
CALSCALE:GREGORIAN
METHOD:PUBLISH
X-ORIGINAL-URL:https://iaoucc.org
X-WR-CALDESC:Events for Iao United Church of Christ
REFRESH-INTERVAL;VALUE=DURATION:PT1H
X-Robots-Tag:noindex
X-PUBLISHED-TTL:PT1H
BEGIN:VTIMEZONE
TZID:Pacific/Honolulu
BEGIN:STANDARD
TZOFFSETFROM:-1000
TZOFFSETTO:-1000
TZNAME:HST
DTSTART:20250101T000000
END:STANDARD
END:VTIMEZONE
BEGIN:VEVENT
DTSTART;TZID=Pacific/Honolulu:20260321T140000
DTEND;TZID=Pacific/Honolulu:20260321T170000
DTSTAMP:20260420T195555
CREATED:20260310T005613Z
LAST-MODIFIED:20260310T010325Z
UID:4947-1774101600-1774112400@iaoucc.org
SUMMARY:Navigating The Islands: Cultural\, Health\, and Community
DESCRIPTION:
URL:https://iaoucc.org/event/navigating-the-islands-cultural-health-and-community/
CATEGORIES:CALENDAR,General
END:VEVENT
END:VCALENDAR