BEGIN:VCALENDAR
VERSION:2.0
PRODID:-//Iao United Church of Christ - ECPv6.15.20//NONSGML v1.0//EN
CALSCALE:GREGORIAN
METHOD:PUBLISH
X-ORIGINAL-URL:https://iaoucc.org
X-WR-CALDESC:Events for Iao United Church of Christ
REFRESH-INTERVAL;VALUE=DURATION:PT1H
X-Robots-Tag:noindex
X-PUBLISHED-TTL:PT1H
BEGIN:VTIMEZONE
TZID:Pacific/Honolulu
BEGIN:STANDARD
TZOFFSETFROM:-1000
TZOFFSETTO:-1000
TZNAME:HST
DTSTART:20240101T000000
END:STANDARD
END:VTIMEZONE
BEGIN:VEVENT
DTSTART;TZID=Pacific/Honolulu:20251005T100000
DTEND;TZID=Pacific/Honolulu:20251005T110000
DTSTAMP:20260420T042456
CREATED:20250928T060733Z
LAST-MODIFIED:20250928T061156Z
UID:4598-1759658400-1759662000@iaoucc.org
SUMMARY:Communion Sunday 10/5
DESCRIPTION:All are welcome at God’s table – please join us!
URL:https://iaoucc.org/event/communion-sunday-10-5/
END:VEVENT
BEGIN:VEVENT
DTSTART;TZID=Pacific/Honolulu:20251019T100000
DTEND;TZID=Pacific/Honolulu:20251019T110000
DTSTAMP:20260420T042456
CREATED:20250930T015309Z
LAST-MODIFIED:20251008T214951Z
UID:4608-1760868000-1760871600@iaoucc.org
SUMMARY:Children’s Sabbath—and PRESCHOOL SUNDAY!!
DESCRIPTION:On Sunday\, October 19\, we will celebrate Children’s Sabbath with a very special worship service at 10:00 a.m. We are delighted to welcome the children\, families\, and staff of our own Iao Preschool to join us for this joyful morning of worship.\nJesus once said\, “Let the little children come to me\, and do not stop them; for it is to such as these that the kingdom of God belongs” (Mark 10:14). On this day\, we follow his example—celebrating our keiki and the gift they are to our community.\nDuring worship\, we will offer prayers of gratitude for our teachers and staff whose dedication and creativity continue to bless our preschool. We will also surround the parents and families of our preschool children with love and support\, affirming our partnership in caring for and nurturing these keiki.\nAfter the keiki are dismissed from worship\, there will be special Sunday School activities in Kanda Hall\, with our Learning Community and Pastor Lauren continuing the celebration of our children. The adults staying in worship will be treated to our first stewarding witness\, Cynthia Snell\, as well as a timely message from Keola Whittaker!\nPlease come on the 19th and help us extend a warm ‘Iao UCC welcome as we give thanks for the ways our preschool enriches our congregation and our wider community.
URL:https://iaoucc.org/event/childrens-sabbath-and-preschool-sunday/
END:VEVENT
END:VCALENDAR